BEGIN:VCALENDAR
VERSION:2.0
PRODID:-//hacksw/handcal//NONSGML v1.0//EN
CALSCALE:GREGORIAN
BEGIN:VEVENT
DTEND:20250330T180000
UID:69e9f0e0c3b22
DTSTAMP:20260423T121352
LOCATION:Austraße 9\, 52156 Monschau
DESCRIPTION:Eve Arnold wurde 1912 als Kind russisch-jüdischer Immigranten in Philadelphia geboren. Mit einer geschenkten Rolleicord entflammte in den 1940er Jahren ihr Interesse für Fotografie, das Zeit ihres 99-jährigen Lebens nicht mehr enden sollte. In mehr als 40 Jahren schuf Eve Arnold auf unzähligen Reisen beeindruckende Reportagen, porträtierte Stars sowie politische Würdenträger und widmete sich den gesellschaftspolitischen Themen ihrer Zeit.\n\nDie in Monschau gezeigten Fotografien veranschaulichen die Vielseitigkeit der Ausnahmefotografin sowie ihr sensibles Gespür für außergewöhnliche Themen und Situationen. Neben längst ikonenhaften Arbeiten gibt es ebenso überraschende Aufnahmen zu entdecken, die bisher noch nicht in Deutschland präsentiert wurden.
URL;VALUE=URI:
SUMMARY:About Eve
DTSTART:20250220T080000
END:VEVENT
END:VCALENDAR