BEGIN:VCALENDAR
VERSION:2.0
PRODID:-//hacksw/handcal//NONSGML v1.0//EN
CALSCALE:GREGORIAN
BEGIN:VEVENT
DTEND:20250309T180000
UID:69eccfb0b1cb6
DTSTAMP:20260425T162904
LOCATION:Tiergartenstr. 41\, 47533 Kleve
DESCRIPTION:Präsentiert werden Arbeiten der neuen Nutzer*innen des ehemaligen Wohn- und Atelierhaus von Ewald Mataré in Meerbusch-Büderich. Bei diesen handelt es sich um die dHCS-Stipendiat*innen der Jahre 2021–2023 und 2024–2025 sowie weitere in das Mataré-Haus involvierte Künstler*innen.\n\nDas sogenannte „dHCS–Stipendium“ wird alle zwei Jahre vom Kunstverein für die Rheinlande und Westfalen zusammen mit dem Düsseldorfer Unternehmen de Haen-Carstanjen & Söhne vergeben. Es richtet sich an Künstler*innen, die kürzlich ihr Studium an der Kunstakademie Düsseldorf abgeschlossen haben.\n\nGezeigt werden unter Einfluss des genius loci im Mataré-Haus entstandene Werke, die unterschiedliche künstlerische Diskurse, Zugänge und Auseinandersetzungen widerspiegeln.\n\nSie reichen von Malerei, über Zeichnung und Druckgraphik bis hin zu Video, Skulptur und Installation. Alle Arbeiten werden mit ausgewählten Alltagsgegenständen aus dem Mataré-Haus präsentiert.\n
URL;VALUE=URI:
SUMMARY:HOUSE of MATARÉ
DTSTART:20241027T080000
END:VEVENT
END:VCALENDAR