BEGIN:VCALENDAR
VERSION:2.0
PRODID:-//hacksw/handcal//NONSGML v1.0//EN
CALSCALE:GREGORIAN
BEGIN:VEVENT
DTEND:20250330T180000
UID:69e95908efd76
DTSTAMP:20260423T012600
LOCATION:Joseph-Beuys-Platz 1\, 47798 Krefeld
DESCRIPTION:Der austroamerikanische Architekt Kiesler, der sich nach seinen bahnbrechenden Ausstellungsdisplays und Architekturvisionen der 1920er-Jahre vermehrt der Skulptur zuwandte, trifft auf den österreichischen Bildhauer Pichler. Dieser setzte in den frühen 1960er-Jahren mit seinen als alternative Wohnräume deklarierten Plastiken maßgebliche und international rezipierte Impulse. Beide begannen als Pioniere früh, herkömmliche Bauweisen in Frage zu stellen und dazu experimentell Alternativen zu entwickeln: biomorphe, skulpturale Architekturen oder architektonische Skulpturen.\nDas interdisziplinäre Kollektiv raumlaborberlin übernimmt die künstlerisch-architektonische Gestaltung und realisiert ein Display, das es ermöglicht, diese utopischen Projekte aus heutiger Perspektive zu betrachten. Mit ca. 120 internationalen Leihgaben, darunter nie gezeigte Archivalien und Objekten, werden sechs thematische Stationen sowohl zentrale inhaltliche als auch formale Phänomene vergleichend vorstellen.\nDie Schau, die sich an ein breites kunst- und architekturinteressiertes Publikum richtet, bietet in Deutschland den ersten umfassenden Überblick über das Schaffen von Walter Pichler seit 1987. Auch die Arbeit Friedrich Kieslers wird erstmals umfassend in Nordrhein-Westfalen und der Region BENELUX präsentiert.
URL;VALUE=URI:
SUMMARY:Visionäre Räume. Walter Pichler trifft Friedrich Kiesler in einem Display von raumlaborberlin
DTSTART:20241122T080000
END:VEVENT
END:VCALENDAR