BEGIN:VCALENDAR
VERSION:2.0
PRODID:-//hacksw/handcal//NONSGML v1.0//EN
CALSCALE:GREGORIAN
BEGIN:VEVENT
DTEND:20240930T180000
UID:69ea90fe14a9f
DTSTAMP:20260423T233702
LOCATION:Wallstr. 1\, 51702 Bergneustadt
DESCRIPTION:Das Konzept der Ausstellung sieht vor, dass die Nester nahtlos in die aktuelle Präsentation des Heimatmuseums eingebunden werden. Die bestehende Ausstellung bleibt unverändert, und es werden lediglich unerwartete Ergänzungen hinzugefügt. Die Künstlerinnen Brigitta Backhaus, Ute Campo, Cholpon Demuth-Osmonalieva und Sigrid Schwarzenberger beteiligen sich an der Ausstellung.
URL;VALUE=URI:
SUMMARY:Im Nest\, eine Ausstellung in der Ausstellung
DTSTART:20240512T080000
END:VEVENT
END:VCALENDAR