BEGIN:VCALENDAR
VERSION:2.0
PRODID:-//hacksw/handcal//NONSGML v1.0//EN
CALSCALE:GREGORIAN
BEGIN:VEVENT
DTEND:20240825T180000
UID:69e8777f71d74
DTSTAMP:20260422T092343
LOCATION:Helmut-Kohl-Allee 2\, 53113 Bonn
DESCRIPTION:Bis zum 25. August stellt das Kunstmuseum Bonn einen Überblick der Sammlungsneuzugänge aus. Zu sehen sind Malereien, Fotografien und Plastiken, die Einblicke in die aktuellen Sammlungsschwerpunkte und -entwicklungen des Kunstmuseums geben.\n\nMit Werken von\n\nNatalie Czech,  Helmut Dorner, Bogomir Ecker, Robert Elfgen, Gregor Gleiwitz, Vivian Greven, Anna Lehmann-Brauns, C. O. Paeffgen, Stephanie Pech, Thomas Scheibitz, Corinna Schnitt, Clare Strand 
URL;VALUE=URI:
SUMMARY:Neu in der Sammlung
DTSTART:20240425T080000
END:VEVENT
END:VCALENDAR