BEGIN:VCALENDAR
VERSION:2.0
PRODID:-//hacksw/handcal//NONSGML v1.0//EN
CALSCALE:GREGORIAN
BEGIN:VEVENT
DTEND:20240428T180000
UID:69e78a2ad56f4
DTSTAMP:20260421T163106
LOCATION:Berger Allee 2\, 40213 Düsseldorf
DESCRIPTION:Das oftmals Unsichtbare (oder unsichtbar gemachte), sichtbar machen: Das möchte die Schau "unSICHTBAR", eine Kunstausstellung der Düsseldorfer Mädchen- und Frauenhilfeeinrichtungen, bewirken. An zwei zentralen Orten in Düsseldorf, der Zentralbibliothek (bis 14. April) und dem Stadtmuseum Düsseldorf (bis 28. April), werden Kunstwerke von Mädchen und Frauen ausgestellt, die die Angebote der Hilfseinrichtungen in Anspruch nehmen.\n\nDie Kunstwerke sind während therapeutischer Prozesse und in Workshops entstanden, die von den Einrichtungen als Kreativtherapie angeboten wurden. Die Workshops boten den Klientinnen die Möglichkeit, ihr Gefühlswelt auf kreative Weise zum Ausdruck zu bringen und einen anderen Blick auf ihre Themen einzunehmen. Ihren Arbeiten und ihren (Lebens-)Leistungen soll die angemessene Wertschätzung entgegengebracht werden, indem sie aus den Einrichtungen in die künstlerische und gesellschaftliche Mitte Düsseldorfs wandern.\n
URL;VALUE=URI:
SUMMARY:"unSICHTBAR" - Kunstausstellung der Düsseldorfer Mädchen- und Frauenhilfeeinrichtungen
DTSTART:20240307T080000
END:VEVENT
END:VCALENDAR