BEGIN:VCALENDAR
VERSION:2.0
PRODID:-//hacksw/handcal//NONSGML v1.0//EN
CALSCALE:GREGORIAN
BEGIN:VEVENT
DTEND:20250105T180000
UID:69e6c4166c77b
DTSTAMP:20260421T022558
LOCATION:Ehrenhof 4-5\, 40479 Düsseldorf
DESCRIPTION:Florian Peters-Messer hat von Anfang an vor allem gesellschaftspolitische Arbeiten gesammelt, die die Umbrüche unserer Zeit kritisch aufgreifen – mal mit beklemmender Direktheit, mal mit expressivem Gestus oder mit konzeptueller Klarheit. Neben den drängenden gesellschaftlichen Herausforderungen liegt ein weiterer inhaltlicher Fokus auf den Themen Gender, Sex und Identität.\n\nPeters-Messers rund 310 Werke umfassende Schenkung ist museal angelegt: Neben Malerei, Zeichnung und Fotografie beinhaltet sie viele Video- und Medienarbeiten sowie großformatige Installationen, die den institutionellen Charakter unterstreichen. Entsprechend hat der Sammler auch in der Vergangenheit die Werke viel und weitreichend ausgestellt – beispielsweise an der Bremer Weserburg, der Miettinen Collection, Berlin, der Werkschauhalle, Leipzig, oder dem Marburger Kunstverein. Peters-Messer ist dem Kunstpalast schon lange verbunden. 2020 kuratierte er hier gemeinsam mit Linda Peitz die Ausstellung Empört Euch! Kunst in Zeiten des Zorns, die in den Fokus nahm, wie Künstler*innen mit ihren Werken auf die Krisensymptome der Gesellschaft reagieren. Seit vier Jahren engagiert sich der Sammler außerdem als Schatzmeister im Verein der Freunde des Kunstpalastes.\n
URL;VALUE=URI:
SUMMARY:Too Much Future. Schenkung Florian Peters-Messer 
DTSTART:20240828T080000
END:VEVENT
END:VCALENDAR