BEGIN:VCALENDAR
VERSION:2.0
PRODID:-//hacksw/handcal//NONSGML v1.0//EN
CALSCALE:GREGORIAN
BEGIN:VEVENT
DTEND:20240804T180000
UID:69e570d90217f
DTSTAMP:20260420T021833
LOCATION:Ständehausstraße 1\, 40217 Düsseldorf
DESCRIPTION:Im Zentrum der Gruppenausstellung steht die raumgreifende Videoinstallation Sweet Talk Commissions Beirut (Solidere: 1994-1997), 2019, des libanesisch-US-amerikanischen Künstlers Walid Raad (geb. 1967 in Chbanieh). Die Videomontage besteht aus gespiegelten und verlangsamten Aufnahmen von Gebäudesprengungen durch die Immobilienfirma Solidere im Beirut der 1990er Jahre, nach Ende des libanesischen Bürgerkriegs. Erinnerung, Verlust, Umbruch und Gewalt, aber auch Wiederaufbau sind Ausgangspunkte für die in der Ausstellung versammelten, internationalen künstlerischen Perspektiven. Die Stadt wird zum Austragungsort für politische und gesellschaftliche Zukunftsfragen, die die Möglichkeiten gemeinschaftlichen Lebens reflektieren. „Forthcoming“ ist dem gleichnamigen Buch des libanesischen Schriftstellers und Filmemachers Jalal Toufic entlehnt. Es behandelt die nicht-linearen Auswirkungen von Katastrophen auf die Kultur. Das Bevorstehende – forthcoming – wird zum Moment der Spekulation über Zerfall und Erneuerung, über die Spuren des Vergangenen im erst Entstehenden.\n
URL;VALUE=URI:
SUMMARY:Forthcoming. Spekulationen im urbanen Raum
DTSTART:20240413T080000
END:VEVENT
END:VCALENDAR