BEGIN:VCALENDAR
VERSION:2.0
PRODID:-//hacksw/handcal//NONSGML v1.0//EN
CALSCALE:GREGORIAN
BEGIN:VEVENT
DTEND:20240728T180000
UID:69ea0c1d79c9d
DTSTAMP:20260423T141005
LOCATION:Ehrenhof 4-5\, 40479 Düsseldorf
DESCRIPTION:Im Kunstpalast, im NRW-Forum sowie im Ehrenhof findet auch 2024 wieder die größte von Künstler*innen für Künstler*innen organisierte Ausstellung in Deutschland statt. Skulpturen im Außenraum bilden eine visuelle Verknüpfung, eine Art verbindende Blickachse zwischen den beiden bekannten Düsseldorfer Kunstinstitutionen.\n\nBereits seit 1902 bietet der Verein zur Veranstaltung von Kunstausstellungen e.V. mit der Organisation dieser Ausstellung eine einzigartige Plattform für den Austausch von Künstler*innen, Kunstinteressierten und Käufer*innen. Die Werke können von den Besuchenden ohne Beteiligung einer Galerie direkt vor Ort erworben werden.\n\nDie Auswahl der teilnehmenden Künstler*innen wird aus zahlreichen Bewerbungen durch eine jährlich wechselnde Jury getroffen. Gezeigt werden Werke aus den Bereichen Malerei, Fotografie, Grafik, Bildhauerei/Plastik, Installation und Video.\n\nAusstellungsleiter: Emmanuel Mir\nOrganisation: Verein zur Veranstaltung von Kunstausstellungen e. V.
URL;VALUE=URI:
SUMMARY:DIE GROSSE KUNSTAUSSTELLUNG NRW 2024
DTSTART:20240623T080000
END:VEVENT
END:VCALENDAR