BEGIN:VCALENDAR
VERSION:2.0
PRODID:-//hacksw/handcal//NONSGML v1.0//EN
CALSCALE:GREGORIAN
BEGIN:VEVENT
DTEND:20240526T180000
UID:69e75a073cbec
DTSTAMP:20260421T130543
LOCATION:Ehrenhof 4-5\, 40479 Düsseldorf
DESCRIPTION:„It is our perceptions of material forms that are fundamental to the formation of our emotions, thoughts and ideas.” Tony Cragg, 2019\n\nEs ist die erste umfangreiche Ausstellung dieser Art in einem Museum. In „Please touch!“ können die Besuchenden Skulpturen mit den Händen nachzeichnen, ihre Konturen erspüren, ihre Oberflächen ertasten. Die Präsentation umfasst etwa 60 Werke Tony Craggs unterschiedlichster Techniken und Materialien. Die Kälte von Stein trifft auf die Wärme von Holz, die Glätte von Glas auf die Härte von Stahl. Auch unkonventionelle Materialien wie Kunststoff, Glasfaser oder Kevlar finden bei Cragg Verwendung. Neben den plastischen und stofflichen Eigenschaften treten durch die Berührung auch die bewegten Formen der Arbeiten in den Vordergrund der Wahrnehmung und ermöglichen eine intensive körperliche Begegnung.\n\nDie materielle Welt zu erforschen und ihre Möglichkeiten aufzudecken, ist ein zentrales Anliegen von Tony Cragg. Ihn interessiert die Kombination von Werkstoff und Bedeutung, die in der Ausstellung „Please touch“ veranschaulicht wird. Für jede/n Künstler*in ist das Berühren und körperliche Erfassen der eigenen Arbeiten zentral. So bietet die Schau auch einen Blick über die Schulter des Bildhauers. Sie gibt den Besuchenden die Möglichkeit, den künstlerischen Prozess Tony Craggs nachzuempfinden und mit allen Sinnen seine Arbeiten zu begreifen.
URL;VALUE=URI:
SUMMARY:TONY CRAGG. PLEASE TOUCH!
DTSTART:20240222T080000
END:VEVENT
END:VCALENDAR