BEGIN:VCALENDAR
VERSION:2.0
PRODID:-//hacksw/handcal//NONSGML v1.0//EN
CALSCALE:GREGORIAN
BEGIN:VEVENT
DTEND:20231217T180000
UID:69ec9ab2d14bd
DTSTAMP:20260425T124258
LOCATION:Am Schloss Broich 42\, 45479 Mülheim an der Ruhr
DESCRIPTION:Claudia Franken zeigt ihre Leidenschaft für Landschaftsfotografie in der neuen Ausstellung, die ab Sonntag, 12. November, in der Camera Obscura zu sehen ist. Die Fotografin hat sich dabei mit den Themen „Grenzziehungen” und „Wasser.Vielfalt” beschäftigt. Wie Grenzen in Landschaften funktionieren und wie sich die Natur teils widersetzt, zeigen ihre Werke. Zudem hat Claudia Franken mit ihrer Kamera Formen und Bewegungen des Wassers eingefangen. Durch den spielerischen Einsatz von Effekten kommen Details zum Vorschein, die das menschliche Auge womöglich nicht erfassen könnte.\n
URL;VALUE=URI:
SUMMARY:Landschaften
DTSTART:20231112T080000
END:VEVENT
END:VCALENDAR