BEGIN:VCALENDAR
VERSION:2.0
PRODID:-//hacksw/handcal//NONSGML v1.0//EN
CALSCALE:GREGORIAN
BEGIN:VEVENT
DTEND:20240303T180000
UID:69ecf35c0c4a3
DTSTAMP:20260425T190116
LOCATION:Am Obertor\, 41460 Neuss
DESCRIPTION:Die faszinierenden und mystischen Bildwelten der Symbolisten George Minne (1866–1941) und Léon Spilliaert (1881–1946) stehen im Fokus der Ausstellung. Sie stellt erstmals zwei mutige Vorreiter der Moderne gegenüber, deren Schaffen durch formale Reduktion und farbliche Konzentration den Übergang vom Symbolismus zum Expressionismus markiert.\n\nWir richten den Fokus auf zwei in ihrer Heimat Belgien hoch verehrte Künstler, die in Deutschland bis heute nur wenigen bekannt sind. Ausgehend von unserer hierzulande einmaligen und international anerkannten Sammlung des Symbolismus werfen wir einen ersten und überraschenden Blick auf diese wegweisende Epoche in Belgien. Anhand von rund 70, teils selten oder noch nie gezeigten Bildern und Skulpturen aus öffentlichen und privaten Sammlungen aus dem In- und Ausland wird ihrem Einfluss auf die Kunst des 20. Jahrhunderts nachgegangen.\n\nMuseumskoffer zur Ausstellung\nDie Museumskoffer des Belgienzentrums und des Faches Kunst der Universität Paderborn lassen Werk und Leben der beiden belgischen Symbolisten mit allen Sinnen erfahren. Außergewöhnliche Perspektiven und Einblicke bieten einen eigenen Zugang zur Ausstellung.
URL;VALUE=URI:
SUMMARY:Gewagte Visionen – George Minne und Léon Spilliaert. Vom Symbolismus zum Expressionismus
DTSTART:20231022T080000
END:VEVENT
END:VCALENDAR