BEGIN:VCALENDAR
VERSION:2.0
PRODID:-//hacksw/handcal//NONSGML v1.0//EN
CALSCALE:GREGORIAN
BEGIN:VEVENT
DTEND:20231227T180000
UID:69e68d1d3972a
DTSTAMP:20260420T223125
LOCATION:Nachtigallenweg 39\, 53844 Troisdorf-Bergheim
DESCRIPTION:\nUnter diesen Titel stellen die beiden Hennefer Künstlerinnen Ulrike Biermann und U-Shi Novotny-Schmandt ihre Ausstellung im Fischereimuseum Bergheim an der Sieg.\nDie vier Elemente Feuer, Wasser, Erde und Luft können als Urstoffe allen Seins, als Elixiere allen Lebens angesehen werden. Sie ergänzen sich essenziell, stehen dabei aber gleichzeitig in elementarem Kontrast zueinander.\nBereits beim ersten Blick auf die Kunstwerke von Ulrike Biermann und U-Shi Novotny-Schmandt und deren Farben und Motive wird das Spannungsfeld der vier Elemente sichtbar.\nUlrike Biermann faszinieren die Elemente Luft und Wasser als Quell des Lebens, Kraft, Ruhe, Wogen, Tiefe und Weite. Dementsprechend dominiert die Farbe Blau in ihren Werken.\nFür U-Shi Novotny-Schmandt verkörpern die Elemente Erde und Feuer Urgrund, Natur und Kultur, Wachstum, Menschsein, Wärme, Leidenschaft. Ihre Werke werden meist bestimmt von Rot- und Brauntönen.\nAlle vier Elemente und ihre affinen künstlerischen Ausdrucksformen finden ihre reizvolle Entsprechung in der Materialität des Fischereimuseums und der Vielfalt der es umgebenden Natur: In luftiger und sonnennaher Höhe über dem Altarm der Sieg aufragend mit Blick über Wasser und Wald, ihrer Flora und Fauna bietet es den idealen Ausstellungsort und Hintergrund für die Thematik dieser Ausstellung.\n
URL;VALUE=URI:
SUMMARY:Vier Elemente – Elixiere des Lebens
DTSTART:20230827T080000
END:VEVENT
END:VCALENDAR