BEGIN:VCALENDAR
VERSION:2.0
PRODID:-//hacksw/handcal//NONSGML v1.0//EN
CALSCALE:GREGORIAN
BEGIN:VEVENT
DTEND:20230820T180000
UID:69e5bde5e643a
DTSTAMP:20260420T074717
LOCATION:Grabenstr. 21\, 40878 Ratingen
DESCRIPTION:Die in Ratingen geborene Medienkünstlerin Annebarbe Kau, Jg. 1958, bespielt ab Mai den Projektraum im Erdgeschoss des Museums als Kontrapunkt zu den beiden Malereiausstellungen. Sie zeigt eine Videocollage auf fünf Monitoren mit Filmen aus unterschiedlichen Schaffensphasen. Das früheste Video entstand während eines Stipendiums in New York in den 80er Jahren, eigens für Ratingen konzipiert ist ihr aktuelles Thema ‚Diamanten‘. Die Künstlerin begibt sich auf Spurensuche nach Schätzen innerhalb des eigenen Œuvres, die sie kombiniert mit neuen Aufnahmen von 2023 in den Schatzkammern von Dresden.\nAnnebarbe Kau studierte an der Kunstakademie Düsseldorf als Meisterschülerin von Nam June Paik und lebt heute in Köln. Im Jahr 2019 zeigte sie in der Evangelischen Stadtkirche Ratingen eine Einzelausstellung mit dem Titel „Halt in Eile“. \n
URL;VALUE=URI:
SUMMARY:Annebarbe Kau. Diamantenstaub – im Projektraum
DTSTART:20230512T080000
END:VEVENT
END:VCALENDAR