BEGIN:VCALENDAR
VERSION:2.0
PRODID:-//hacksw/handcal//NONSGML v1.0//EN
CALSCALE:GREGORIAN
BEGIN:VEVENT
DTEND:20221016T180000
UID:69e6c32a0cf2b
DTSTAMP:20260421T022202
LOCATION:Helmut-Kohl-Allee 2\, 53113 Bonn
DESCRIPTION:Seit rund 50 Jahren sammelt das Kunstmuseum zeitgenössische Fotografie. Über 400 Werke und Serien sind dabei zusammengetragen worden, die insgesamt mehrere tausend Fotografien umfassen. Im Rahmen des Förderprogramms „Forschungsvolontariat Kunstmuseen NRW“ wurde die Sammlung systematisch aufgearbeitet und erforscht. Teile daraus werden nun in der Sonderausstellung Deutscher Kaviar neu präsentiert.\n\nMit einem Schwerpunkt auf Fotokunst, die seit 1965 in Deutschland entstanden ist, bietet die fotografische Sammlung eine einzigartige Perspektive auf ein halbes Jahrhundert, das geprägt wurde von einem sich rasant beschleunigenden neoliberalen Kapitalismus, durch den unser Denken und Fühlen geformt wurde und welcher Leben, Kunst und Kultur zunehmend in Prozesse der Kommerzialisierung verstrickt hat.\n\nAusgangspunkt der Ausstellung ist daher die Doppelrolle der Fotografie in diesem System, in dem sie als Gebrauchs-, Dokumentar- und Werbefotografie dem Antrieb des Begehrens in einer Gesellschaft des Massenkonsums dient. Gleichzeitig kann sie in der Hand von Künstler:innen zu einem Mittel werden, mit dem Kritik am dominanten System formuliert werden kann. Dabei werden Bezüge zwischen Werk und Ware, zwischen Finanz- und Kunstmärkten, Kunstschaffenden und dem unternehmerischen Selbst genauso thematisiert wie Fragen nach der sich wandelnden Rolle der Fotografie in der Gesellschaft.\n\nMit Werken von Lewis Baltz, Bernd & Hilla Becher, Rudolf Bonvie, Christo & Jeanne-Claude, Walther Dahn, Felix Droese, Achim Duchow, Ceal Floyer, Andreas Gursky, Jürken Klauke, Astrid Klein, Christof Kohlhöfer, Sigmar Polke, Timm Rautert, Michael Reisch, Ulrike Rosenbach, Katharina Sieverding, Heidi Specker, Thomas Struth, Ilona & Wolfgang Weber, Herbert Wentscher, Nicole Wermers u.v.m.
URL;VALUE=URI:
SUMMARY:DEUTSCHER KAVIAR: DIE FOTOGRAFISCHE SAMMLUNG
DTSTART:20220721T080000
END:VEVENT
END:VCALENDAR