BEGIN:VCALENDAR
VERSION:2.0
PRODID:-//hacksw/handcal//NONSGML v1.0//EN
CALSCALE:GREGORIAN
BEGIN:VEVENT
DTEND:20220606T180000
UID:69e720ca53213
DTSTAMP:20260421T090130
LOCATION:Universitätsstr. 100\, 50674 Köln
DESCRIPTION:Die Ausstellung zeigt mit einer einzigartigen Auswahl an japanischen Farbholzschnitten aus der ersten Hälfte des 20. Jahrhunderts die Entwicklung des Shin hanga, der sogenannten Neuen Drucke.\n
URL;VALUE=URI:
SUMMARY:SHIN HANGA - Der moderne Farbholzschnitt Japans 1900–1960
DTSTART:20220311T080000
END:VEVENT
END:VCALENDAR