BEGIN:VCALENDAR
VERSION:2.0
PRODID:-//hacksw/handcal//NONSGML v1.0//EN
CALSCALE:GREGORIAN
BEGIN:VEVENT
DTEND:20220508T180000
UID:69e9a35865d99
DTSTAMP:20260423T064304
LOCATION:Ehrenhof 4-5\, 40479 Düsseldorf
DESCRIPTION:Die rund 120 Gemälde umfassende Ausstellung präsentiert ausgewählte Werke Liebermanns neben denen seiner Malerkolleg*innen aus verschiedenen europäischen Kunstzentren. Die Werkauswahl zeigt, wie sich die Künstler*innen dieser Epoche über die Grenzen hinweg ausgetauscht und beeinflusst haben und wie sehr Liebermanns Erfolg durch seine Auseinandersetzung mit der Kunst anderer Länder bedingt war. Dabei spielte auch Düsseldorf eine wichtige Rolle.\n\nNeben zahlreichen Hauptwerken Liebermanns werden Arbeiten seiner großen französischen und holländischen Vorbilder sowie seiner Zeitgenossen – darunter Vincent van Gogh, Jean-François Millet, Claude Monet, Frans Hals und Rembrandt van Rijn – präsentiert. Dem Einfluss Liebermanns auf die Düsseldorfer Kunstszene wird ein eigener Raum gewidmet.
URL;VALUE=URI:
SUMMARY:Ich. Max Liebermann. Ein Europäischer Künstler
DTSTART:20220203T080000
END:VEVENT
END:VCALENDAR