BEGIN:VCALENDAR
VERSION:2.0
PRODID:-//hacksw/handcal//NONSGML v1.0//EN
CALSCALE:GREGORIAN
BEGIN:VEVENT
DTEND:20220227T180000
UID:69e66e612e346
DTSTAMP:20260420T202017
LOCATION:Turmhof 8\, 42103 Wuppertal
DESCRIPTION:Die Ausstellung geht hervor aus einer engen Zusammenarbeit des Von der Heydt-Museums Wuppertal mit dem Buchheim Museum der Phantasie, Bernried am Starnberger See, und den Kunstsammlungen Chemnitz.\nDie Künstlergruppen „Brücke“ und „Blauer Reiter“ stehen synonym für den Expressionismus in Deutschland und gelten zugleich als entscheidender Beitrag zur Klassischen Moderne in den Jahren 1905 bis 1914 in Deutschland. Die umfassende Ausstellung soll anhand ausgewählter Hauptwerke einen frischen Blick auf die Bedeutung und das Zusammenwirken dieser beiden Formationen ermöglichen. Dabei stützen sich die drei beteiligten Museen im Wesentlichen auf die reichen eigenen Sammlungsbestände, die erstmals zusammengeführt werden – ein nachhaltiger Ansatz, der überdies neue und überraschende kuratorische Perspektiven eröffnet. Ergänzend hinzu kommen ausgewählte Werke von nationalen und internationalen Leihgebern, die es ermöglichen, das künstlerische Spektrum angemessen abzubilden.
URL;VALUE=URI:
SUMMARY:Brücke und Blauer Reiter
DTSTART:20211121T080000
END:VEVENT
END:VCALENDAR