BEGIN:VCALENDAR
VERSION:2.0
PRODID:-//hacksw/handcal//NONSGML v1.0//EN
CALSCALE:GREGORIAN
BEGIN:VEVENT
DTEND:20211217T180000
UID:69eb954e20004
DTSTAMP:20260424T180742
LOCATION:Bismarckstr. 90\, 40210 Düsseldorf
DESCRIPTION:Gezeigt werden ausgewählte Werke der stiftungseigenen Sammlung der ehemaligen "Ostdeutschen Artothek" als Kontext zeitgenössischer Arbeiten der in Düsseldorf lebenden Künstler Thomas Koester (Fotografie) und Jan Stieding (Malerei). Die Sammlung vereint überwiegend Papierarbeiten, Fotografie und Gemälde von rund 200 Künstlerinnen und Künstlern mit eindeutigem Bezug zum historischen deutschen Osten und zu den deutschen Siedlungsgebieten in Ost- und Südosteuropa. Thomas Koester und Jan Stieding setzen sich unter Berücksichtigung eigener künstlerischer Fragestellungen mit Positionen der Sammlung auseinander.\n
URL;VALUE=URI:
SUMMARY:Sammlung neu entdeckt. Ausgewählte Arbeiten der "Ostdeutschen Artothek" im Dialog mit Werken von Thomas Koester und Jan Stieding
DTSTART:20210924T080000
END:VEVENT
END:VCALENDAR