BEGIN:VCALENDAR
VERSION:2.0
PRODID:-//hacksw/handcal//NONSGML v1.0//EN
CALSCALE:GREGORIAN
BEGIN:VEVENT
DTEND:20211021T180000
UID:69eb680c15a6d
DTSTAMP:20260424T145436
LOCATION:Bismarckstr. 90\, 40210 Düsseldorf
DESCRIPTION:
URL;VALUE=URI:
SUMMARY:Licking wounds. Ukraine - 30 Jahre nach der Unabhängigkeit. Herausforderungen und Perspektiven
DTSTART:20210923T080000
END:VEVENT
END:VCALENDAR