BEGIN:VCALENDAR
VERSION:2.0
PRODID:-//hacksw/handcal//NONSGML v1.0//EN
CALSCALE:GREGORIAN
BEGIN:VEVENT
DTEND:20220220T180000
UID:69ea8e63e82bf
DTSTAMP:20260423T232555
LOCATION:Schloss Dyck\, 41363 Jüchen
DESCRIPTION:Besucher*inne können ein beindruckendes Zusammenspiel von zeitgenössischen Skulpturen und kultivierter Natur erleben. Der international bekannte Düsseldorfer Künstler Thomas Schönauer zeigt hier imposante Stahlobjekte aus seiner aktuellen Werkgruppe "Cultivator".\n\nDie ausladenden, statisch perfekt ausbalancierten Skulpturen greifen das Ambiente des Schlossparks meisterhaft auf und bilden mit den attraktiven Pflanzensembles einzigartige Harmonien. Beim Spaziergang eröffnen sich immer wieder spannende Perspektiven und\ninspirierende Sichtachsen. Der beeindruckenden Größe und tatsächlichen Schwere des Materials begegnet Schönauer wie gehabt mit größter Präzision in der Formgebung. Anhand ihrer eindeutiger Formensprache faszinieren die Werke dabei gleichermaßen durch ihre Präsenz wie durch ihre überraschend vermittelte Leichtigkeit.\n\nThomas Schönauer vergleicht sein Wirken mit der Akupunktur, wie sie in Perfektion von chinesischen Ärzten beherrscht wird. Ganz gezielt platziert er seine großvolumigen Stahlskulpturen so, dass neue Energiepunkte entstehen. Erlebbar sind seine überdimensionalen Werke bereits an vielen öffentlichen Plätzen und privaten Sammlungen von San Francisco bis Hamburg und von Dubai bis Rio de Janeiro – und ab dem 5. September auch in Schloss Dyck.\n
URL;VALUE=URI:
SUMMARY:Thomas Schönauer. Cultivating – Kunst und Garten im Einklang
DTSTART:20210905T080000
END:VEVENT
END:VCALENDAR