BEGIN:VCALENDAR
VERSION:2.0
PRODID:-//hacksw/handcal//NONSGML v1.0//EN
CALSCALE:GREGORIAN
BEGIN:VEVENT
DTEND:20211003T180000
UID:69e740ef5bb2e
DTSTAMP:20260421T111839
LOCATION:Appellhofplatz 23-25 (EL-DE-Haus)\, 50667 Köln
DESCRIPTION:Die Geschichte von Anita Lasker-Wallfisch erzählt für junge Menschen von 8 bis 12 Jahren.\n\nAnita Lasker-Wallfisch spielte im Mädchenorchester von Auschwitz und wurde dadurch vor dem Tod bewahrt. Lukas Ruegenberg und Barbara Kirschbaum haben ein Kinderbuch mit dem Titel "Du wirst gerettet werden" über ihr Leben verfasst. Auf der Grundlage dieses Buches gestaltete Georg Bungarten die Ausstellung "Die Cellistin von Auschwitz".
URL;VALUE=URI:
SUMMARY:Die Cellistin von Auschwitz
DTSTART:20210616T080000
END:VEVENT
END:VCALENDAR