BEGIN:VCALENDAR
VERSION:2.0
PRODID:-//hacksw/handcal//NONSGML v1.0//EN
CALSCALE:GREGORIAN
BEGIN:VEVENT
DTEND:20220531T180000
UID:69e682dd3768f
DTSTAMP:20260420T214741
LOCATION:Hachestr. 32\, 45127 Essen
DESCRIPTION:Auf fünf Etagen bietet die Ausstellung „Design on Stage“ Besucherinnen und Besuchern einen umfassenden Überblick über aktuelle Trends und Entwicklungen im Produktdesign. Die Ausstellung ist so konzipiert, dass Besucher*innen die Möglichkeit haben, zu Beginn ihres Besuchs erst einmal einige allgemeine Grundlagen guter Gestaltung kennenzulernen – die „Design Fundamentals“. So werden sie bei einem Rundgang durch das Erdgeschoss des Museums mithilfe kurzer Einführungstexte und beispielhafter Produkte in die Lage versetzt, Produkte, die ihnen auf ihrem Rundgang begegnen, auch selbst zu beurteilen. \n\nUnter diesen Exponaten finden sich auch große Produkte wie der Industrieroboter „Motoman HC20DT“ des japanischen Herstellers Yaskawa, das futuristische Elektromotorrad Verge TS aus Finnland oder Medizinprodukte, deren Gestaltung selten bewusst zur Kenntnis genommen wird. In einem separaten Bereich auf Ebene 1 wird unter dem Titel „Roboterdesign – zwischen humanoid und technoid“ zudem der Frage nachgegangen, wie Roboter gestaltet sein müssen, damit sie nicht als Bedrohung empfunden, sondern als selbstverständlicher Teil der Lebens- und Arbeitswelt akzeptiert werden. 
URL;VALUE=URI:
SUMMARY:Design on Stage 2021–2022
DTSTART:20200623T080000
END:VEVENT
END:VCALENDAR