BEGIN:VCALENDAR
VERSION:2.0
PRODID:-//hacksw/handcal//NONSGML v1.0//EN
CALSCALE:GREGORIAN
BEGIN:VEVENT
DTEND:20210801T180000
UID:69ecf1e19b554
DTSTAMP:20260425T185457
LOCATION:Wuppertaler Str. 160\, 42653 Solingen-Gräfrath
DESCRIPTION:100 Kunstwerke zur deutschen Erstveröffentlichung Boris Luries Lebens- und Überlebenswerkes im Wallstein Verlag.\n\nBoris Lurie verlor in der Shoa bis auf den Vater seine ganze Familie und seine Jugendliebe. Auch nach der Befreiung und der Emigration in die USA blieb ein Teil von ihm weiterhin in den Lagern und Ghettos. In den folgenden Jahrzehnten arbeitete er unablässig an dem Roman Haus von Anita und schuf radikal-provokative Kunstwerke als Gegenbewegung zur gängigen Erinnerungspraxis an die Shoa und vorherrschende Kunstströmungen wie den Abstrakten Expressionismus und Pop Art. Die Boris Lurie Stiftung aus New York hat dem Zentrum für verfolgte Künste Kunstwerke aus seinem gesamten Schaffen als Leihgaben übergeben, vor allem frühe Werke, die unmittelbar nach der Befreiung entstanden.
URL;VALUE=URI:
SUMMARY:„Boris Lurie. Das Haus von Anita“
DTSTART:20210508T080000
END:VEVENT
END:VCALENDAR