BEGIN:VCALENDAR
VERSION:2.0
PRODID:-//hacksw/handcal//NONSGML v1.0//EN
CALSCALE:GREGORIAN
BEGIN:VEVENT
DTEND:20210831T180000
UID:69eb47b7197ea
DTSTAMP:20260424T123639
LOCATION:Schulstr. 4\, 40213 Düsseldorf
DESCRIPTION:Mit der Sonderausstellung "Christoph Schlingensief: Projektionen" zeigt das Filmmuseum Düsseldorf Fotografien, die der Filmtonmeister Eckhard Kuchenbecker als Mitarbeiter und enger Vertrauter des Regisseurs, Theatermanns und Aktionskünstlers Christoph Schlingensief (1960-2010) gemacht hat. Tausende Aufnahmen sind über zwölf Jahre ab 1983 entstanden, in dem Jahr, in dem Schlingensief an die Hochschule für Gestaltung in Offenbach kam und sich beide kennenlernten: Von Schlingensiefs ersten Kurzfilmen, seinem Debüt-Langfilm "Tunguska – Die Kisten sind da" (1984), über die Deutschland-Trilogie (1989-1992), mit der Schlingensief einem größeren Publikum bekannt wurde, bis zu "United Trash" aus dem Jahr 1996. Eine Auswahl dieser Fotos soll Anlass geben, das filmische Werk Schlingensiefs neu zu entdecken. Dabei möchte die Ausstellung neben einem chronologischen Aufbau der gemeinsamen filmischen Arbeit von\nSchlingensief und Kuchenbecker auch der Mehrdeutigkeit der prozessualen Foto-Kunst Rechnung tragen. So erinnern Kuchenbeckers Fotografien an Schlingensiefs Anspruch, über Umlenkungen, die Relativität des Standpunktes der Betrachterinnen bzw. des Betrachters zu betonen. Sie fragen nach der Faszination des Schaffensprozesses, die in Momentaufnahmen von seinen Darstellerinnen und Darstellern wie Udo Kier, Helge Schneider oder die Fassbinder-Schauspielerriege um Margit Carstensen oder Irm Hermann, aber auch in den Bildern der Filme selbst in Erscheinung tritt.\n\nSchlingensief in Düsseldorf\nGleich drei Düsseldorfer Institutionen widmen sich in einer übergreifenden Kooperation dem Werk Christophs Schlingensiefs: Parallel zur Ausstellung im Filmmuseum plant die Kunstsammlung Nordrhein-Westfalen im K20 Christoph Schlingensiefs "Kaprow City" bis zum 17. Oktober 2021 zu zeigen. Die Julia Stoschek Collection möchte mit der Schau "Christoph Schlingensief. Message in a bottle" bis zum 19. Dezember 2021 Werke von Schlingensief aus dem eigenen Sammlungsbestand präsentieren.
URL;VALUE=URI:
SUMMARY:Christoph Schlingensief: Projektionen
DTSTART:20210430T080000
END:VEVENT
END:VCALENDAR