BEGIN:VCALENDAR
VERSION:2.0
PRODID:-//hacksw/handcal//NONSGML v1.0//EN
CALSCALE:GREGORIAN
BEGIN:VEVENT
DTEND:20211101T180000
UID:69ea52ee13cf1
DTSTAMP:20260423T191214
LOCATION:Minkel 2\, 41472 Neuss-Holzheim
DESCRIPTION:Im Frühjahr 2021 gibt die Stiftung Insel Hombroich mit zwei Ausstellungen ungewohnte Einblicke in die Sammlungstätigkeit des Stiftungsgründers. Karl-Heinrich Müller hat in über dreißig Jahren eine der bedeutendsten Sammlungen zum französischen Künstler Jean Fautrier geschaffen. Mit Jean Fautrier. Eine Sammlung zeigt die Stiftung Insel Hombroich ihren gesamten Fautrier-Bestand mit über vierzig Werken aus allen wichtigen Schaffensphasen des Künstlers, von den zwanziger bis in die fünfziger Jahre des vergangenen Jahrhunderts. Die Sanierung des Pavillons Labyrinth im Museum Insel Hombroich macht diese Präsentation möglich. Denn ein wichtiger Teil der Fautrier-Sammlung hatte seit 1987 dort seinen festen Platz und wird ihn nach der Sanierung des Gebäudes wieder einnehmen. Im Siza Pavillon auf der Raketenstation Hombroich werden ergänzend zu diesen Werken erstmals Bilder, Skulpturen, Lithographien und Künstlerbücher von Jean Fautrier aus dem Depot der Stiftung Insel Hombroich gezeigt.
URL;VALUE=URI:
SUMMARY:Jean Fautrier. Eine Sammlung 
DTSTART:20210430T080000
END:VEVENT
END:VCALENDAR