BEGIN:VCALENDAR
VERSION:2.0
PRODID:-//hacksw/handcal//NONSGML v1.0//EN
CALSCALE:GREGORIAN
BEGIN:VEVENT
DTEND:20260424T180000
UID:69eb181bf3961
DTSTAMP:20260424T091331
LOCATION:Cäcilienstraße 29-33\, 50667 Köln
DESCRIPTION:Die Sonderausstellung "RESIST! Die Kunst des Widerstands" setzt sich mit unterschiedlichen Formen, Momenten und Geschichten des Widerstands gegen den Kolonialismus und seine aktuellen Kontinuitäten auseinander. Dazu lädt das RJM die Kurator*innen und Aktivist*innen Peju Layiwola aus Nigeria, Esther Utjiua Muinjangue & Ida Hoffmann aus Namibia, Tímea Junghaus aus Ungarn und Elizaveta Khan & Mona Leitmeier aus Köln ein, eigene Räume zu kuratieren. Ergänzt werden diese durch Objekte aus der Sammlung des RJMs, historische Materialien, persönliche Zeugnisse und Werke zeitgenössischer Kunst. Die Ausstellung bietet durch Werkstätten im Ausstellungsraum mit einem umfangreichen Veranstaltungs- und Vermittlungsprogramm Orte für Zusammenkunft, Reflexion und Aktion.
URL;VALUE=URI:
SUMMARY:RESIST! Die Kunst des Widerstands
DTSTART:20260424T080000
END:VEVENT
END:VCALENDAR