BEGIN:VCALENDAR
VERSION:2.0
PRODID:-//hacksw/handcal//NONSGML v1.0//EN
CALSCALE:GREGORIAN
BEGIN:VEVENT
DTEND:20210103T180000
UID:69e944c36c51b
DTSTAMP:20260422T235931
LOCATION:Cäcilienstraße 29-33\, 50667 Köln
DESCRIPTION:Das Museum startet eine neue Ausstellungsreihe: » ... der Dinge #«. Im ersten Teil kommen vier Objekte mit besonderer Biografie aus Kambodscha, Kanada, Neuseeland und Nigeria zu Wort. Die Ausstellungsinstallation nähert sich ihren Geschichten, ihrer Präsenz oder Abwesenheit und ihrem Nachleben heute und lädt die Besucher*innen ein, die Biografien dieser vier Objekte zu ergründen und sie auf neue Weise wahrzunehmen. Inspiriert von der Museumssammlung und den aktuellen Debatten, bringen die Fotografin Sara-Lena Maierhofer und die Filmemacherin Clara Wieck eine künstlerische Perspektive in die Ausstellung ein.\n
URL;VALUE=URI:
SUMMARY:...der Dinge#. Die Schatten der Dinge # 1
DTSTART:20200911T080000
END:VEVENT
END:VCALENDAR