BEGIN:VCALENDAR
VERSION:2.0
PRODID:-//hacksw/handcal//NONSGML v1.0//EN
CALSCALE:GREGORIAN
BEGIN:VEVENT
DTEND:20210321T180000
UID:69e9f1dcacb86
DTSTAMP:20260423T121804
LOCATION:Berger Weg 2 (Auf dem Kirkeby-Feld Hombroich)\, 41472 Neuss
DESCRIPTION:Glamour, Mode und Popkultur – die bunte Welt der Papier-Anziehpuppen ist ein wahrer Genuss für Retro-Fans. Von den amerikanischen Filmstars der 1940er bis 1960er Jahre wie Elizabeth Taylor, Grace Kelly oder Rock Hudson bis hin zu den Swinging Sixties mit dem ersten Supermodel der Geschichte, Twiggy, erzählen die Paper-Dolls aus der Sammlung des virtuellen Wirtschaftswundermuseums von der Mode, den Idealen und den Ereignissen ihrer Zeit. Als preiswertes Kinderspielzeug erfreuen sich die Papier-Ankleidepuppen bereits seit rund 200 Jahren großer Beliebtheit. So wird das „Paperdolluniversum“ für viele Besucherinnen und Besucher noch einmal den Zauber vergangener Kindheitstage heraufbeschwören.\n\n 
URL;VALUE=URI:
SUMMARY:VINTAGE FASHION. Paper Dolls aus der Sammlung des Wirtschaftswundermuseums
DTSTART:20200906T080000
END:VEVENT
END:VCALENDAR