BEGIN:VCALENDAR
VERSION:2.0
PRODID:-//hacksw/handcal//NONSGML v1.0//EN
CALSCALE:GREGORIAN
BEGIN:VEVENT
DTEND:20200823T180000
UID:69eba61990746
DTSTAMP:20260424T191921
LOCATION:Grabenstr. 21\, 40878 Ratingen
DESCRIPTION:Im Frühjahr 2020 widmet das Museum Ratingen Irmel Droese und Felix Droese eine umfangreiche Sonderausstellung. Die Präsentation versteht sich als Hommage an das sich gegenseitig inspirierende Künstlerpaar, das seit vielen Jahren in Mettmann lebt und arbeitet. Von Felix Droese befinden sich mehrere Arbeiten in der Sammlung des Museum Ratingen, die ebenfalls einen Anstoß zu diesem Ausstellungsvorhaben gaben. Die bisher umfangreichste Zusammenschau des Künstlerpaares im Kontext eines Kunstmuseums findet auf beiden Ebenen des Hauses statt. Sie umfasst Werke aus allen Schaffensphasen, wodurch sie einen retrospektiven Charakter erhält.\n\nIn einer von Rationalität und Fortschrittsdenken bestimmten Zeit untersuchen beide Künstler im eigenen Werk, aber auch intensiv gemeinsam, die sich rasant verändernde Wirklichkeit. Ihre künstlerischen Intentionen treffen direkt und durchaus heftig aufeinander, ohne dass die Eigenständigkeit oder Strahlkraft der einzelnen Arbeiten beeinträchtigt würde. Vielmehr werden die Exponate miteinander in Beziehung gesetzt und den Fragestellungen Raum gegeben, mit denen sich beide in ihrer\nkritischen und prozesshaften Arbeitsweise auseinander setzen.
URL;VALUE=URI:
SUMMARY:Irmel Droese . Felix Droese - Die Fruchtbarkeit der Polarität
DTSTART:20200510T080000
END:VEVENT
END:VCALENDAR