BEGIN:VCALENDAR
VERSION:2.0
PRODID:-//hacksw/handcal//NONSGML v1.0//EN
CALSCALE:GREGORIAN
BEGIN:VEVENT
DTEND:20201018T180000
UID:69eb138f1a7df
DTSTAMP:20260424T085407
LOCATION:Am Museum\, 47623 Kevelaer
DESCRIPTION:Die neue Sonderausstellung des Niederrheinischen Museums in Kevelaer meint es mit dem Titel "kleine steine – GROSSE IDEEN" ganz wörtlich: Sie präsentiert die berühmten kleinen dänischen Noppensteinchen in sämtlichen Formen und\nFarben und zeigt in vielen Themenkomplexen, was sich alles Tolles daraus bauen lässt. Dabei sind fast vergessene Objekte aus den Sechziger und den frühen Siebziger Jahren\nsowie ganz aktuelle Sets wie LEGO® Friends bis hin zu völlig frei kreierten Szenen um eine schwarze Burg und eine schaurige Unterwasserwelt vorhanden.\nSo erleben die Besucher die Geschichte und Entwicklung des wohl berühmtesten\nSpielbausteins unserer Zeit. Für Kinder gibt es dazu kleine Zwischenstationen zum\nEntdecken, während ihre Eltern sich gedanklich in ihr eigenes Kinderzimmer zurückversetzt fühlen. Damit ist diese besondere Ausstellung für jedes Alter ein Grund zum Staunen.\nUnd wer von den farbenfrohen Klemmbausteinen in der Ausstellung nicht\ngenug bekommen kann, der sei herzlich zu einer Schnitzeljagd queer durchs Museum\neingeladen, wo sich noch weitere kleine Steinchen-Highlights versteckt haben. So kann\n"kleine steine – GROSSE IDEEN" viel Spaß für die ganze Familie versprechen.\n
URL;VALUE=URI:
SUMMARY: kleine steine – GROSSE IDEEN
DTSTART:20200517T080000
END:VEVENT
END:VCALENDAR