BEGIN:VCALENDAR
VERSION:2.0
PRODID:-//hacksw/handcal//NONSGML v1.0//EN
CALSCALE:GREGORIAN
BEGIN:VEVENT
DTEND:20200315T180000
UID:69ecbc0ade92d
DTSTAMP:20260425T150514
LOCATION:Bismarckstr. 90\, 40210 Düsseldorf
DESCRIPTION:Die Wanderausstellung wirft einen Blick auf die Kirchenburgen als eindrucksvollste architektonische Zeugnisse mittelalterlicher Architektur in Siebenbürgen (Rumänien). Sie wurde von der Stiftung Kirchenburgen, die unter der gemeinsamen Schirmherrschaft des rumänischen Staatspräsidenten Klaus Johannis und des deutschen Bundespräsidenten Frank Walter Steinmeier für den Erhalt des kirchlichen Kulturerbes steht, dem Deutschen Kulturforum östliches Europa, der Evangelische Kirche A. B. in Rumänien und der Technischen Universität Berlin entwickelt. \n\nDie Ausstellung informiert auf 24 farbigen Text- und Bildtafeln über die Geschichte der Kirchenburgen und verweist auf die aktuellen Initiativen, die sich vor Ort bemühen, die Kirchenburgenlandschaft zu erhalten und für den Tourismus zugänglich zu machen. Ungefähr 150 Kirchenburgen und Wehrkirchen sind erhalten. Erst sieben von ihnen gehören heute zum Weltkulturerbe der UNESCO.\n\nIn Kooperation mit: Verband der Siebenbürger Sachsen in Deutschland – Landesgruppe Nordrhein-Westfalen
URL;VALUE=URI:
SUMMARY:Kirchenburgenlandschaft Siebenbürgen – Ein europäisches Kulturerbe
DTSTART:20200130T080000
END:VEVENT
END:VCALENDAR