BEGIN:VCALENDAR
VERSION:2.0
PRODID:-//hacksw/handcal//NONSGML v1.0//EN
CALSCALE:GREGORIAN
BEGIN:VEVENT
DTEND:20200130T190000
UID:69e8ae5e4ded7
DTSTAMP:20260422T131750
LOCATION:Turmhof 8\, 42103 Wuppertal
DESCRIPTION:mit Bettina Wagner-Bergelt, Intendantin Tanztheater Wuppertal Pina Bausch\n\nEintritt frei\n
URL;VALUE=URI:
SUMMARY:Zu den Rekonstruktionen von Oskar Schlemmers "Triadischem Ballett"
DTSTART:20200130T180000
END:VEVENT
END:VCALENDAR