BEGIN:VCALENDAR
VERSION:2.0
PRODID:-//hacksw/handcal//NONSGML v1.0//EN
CALSCALE:GREGORIAN
BEGIN:VEVENT
DTEND:20200524T180000
UID:69eb4c3437ed4
DTSTAMP:20260424T125548
LOCATION:Appellhofplatz 23-25 (EL-DE-Haus)\, 50667 Köln
DESCRIPTION:Eine Ausstellung des Fritz Bauer Instituts, Frankfurt am Main\n\nDas KZ Buna-Monowitz wurde 1942 gemeinsam von dem Chemiekonzern I.G. Farben und der SS errichtet. Durch unmenschliche Arbeitsbedingungen kamen dort tausende Häftlinge zu Tode oder wurden in den Gaskammern in Auschwitz-Birkenau ermordet, wenn sie nicht mehr arbeitsfähig waren. Die Ausstellung zeichnet Entstehung, Betrieb und Auflösung des KZs nach. Historische Fotografien dokumentieren den Blick von Konzern und SS. Sie werden kontrastiert mit autobiographischen Texten sowie mit Aussagen von Überlebenden in den Nachkriegsprozessen. Informationen zu deren Bemühungen um Entschädigung nach 1945 beschließen die Ausstellung.
URL;VALUE=URI:
SUMMARY:Die I.G. Farben und das Konzentrationslager Buna-Monowitz. Wirtschaft und Politik im Nationalsozialismus
DTSTART:20200313T080000
END:VEVENT
END:VCALENDAR