BEGIN:VCALENDAR
VERSION:2.0
PRODID:-//hacksw/handcal//NONSGML v1.0//EN
CALSCALE:GREGORIAN
BEGIN:VEVENT
DTEND:20191229T180000
UID:69e92c05cc0b9
DTSTAMP:20260422T221357
LOCATION:Berger Allee 2\, 40213 Düsseldorf
DESCRIPTION:In der Ausstellung werden Werke von Schülerinnen und Schülern der Franz-Marc-Schule aller Stufen auf Aquarellpapier gedruckt und gerahmt präsentiert. Hintergrund ist, dass die Franz-Marc-Schule als Förderschule mit dem Schwerpunkt Geistige Entwicklung mit den Arbeiten in den öffentlichen Raum treten möchte, um so zu einer differenzierteren und an Stärken orientierten Wahrnehmung von Menschen mit Behinderung beizutragen. Die besondere Würdigung der Werke und damit der jungen Künstlerinnen und Künstler im Rahmen der Ausstellung soll dies unterstützen und so hoffen Stadtmuseum und Franz-Marc-Schule auf zahlreiche Gäste.\n
URL;VALUE=URI:
SUMMARY:Kunst an der Franz-Marc-Schule
DTSTART:20191116T080000
END:VEVENT
END:VCALENDAR