BEGIN:VCALENDAR
VERSION:2.0
PRODID:-//hacksw/handcal//NONSGML v1.0//EN
CALSCALE:GREGORIAN
BEGIN:VEVENT
DTEND:20191208T170000
UID:69e53040ca8cc
DTSTAMP:20260419T214256
LOCATION:An der Rechtschule\, 50667 Köln
DESCRIPTION:mit Anna Lienert M. A. (Oberhausen)\n\nDas Schachspiel von Josef Hartwig, der "Farbenmischer"-Kreisel von Ludwig Hirschfeld-Mack und das "Schiff-Bauspiel" von Alma Siedhoff-Buscher mit seinen glatten, bunten Holzbauklötzchen sind heute Spielzeugklassiker, die am Bauhaus entworfen wurden und teils heute wieder im Handel zu finden sind. \n\nDer Vortrag stellt von Bauhäuslerinnen und Bauhäuslern gestaltetes Kinderspielzeug vor und beleuchtet dabei allen voran das Werk Alma Siedhoff-Buschers. Es wird den Fragen nachgegangen, wie diese Spielzeuge entstanden, was sich über ihre zeitgenössische Popularität und Rezeption sagen lässt, und womit Kinder in den 1920er und 1930er Jahren überhaupt gespielt haben.\n\nEintritt: 3 €, Eintritt frei für Studierende und Overstolzen
URL;VALUE=URI:
SUMMARY:MAKKfocus: "kinder sollen einen raum haben\, in dem sie das sein können\, was sie wollen" – Alma Siedhoff-Buschers. Entwürfe für das Kinderzimmer im Haus am Horn
DTSTART:20191208T160000
END:VEVENT
END:VCALENDAR