BEGIN:VCALENDAR
VERSION:2.0
PRODID:-//hacksw/handcal//NONSGML v1.0//EN
CALSCALE:GREGORIAN
BEGIN:VEVENT
DTEND:20191208T180000
UID:69ec3ca0c169b
DTSTAMP:20260425T060136
LOCATION:Grabbeplatz 4\, 40213 Düsseldorf
DESCRIPTION:mit Workshops für Kinder ab 5 Jahren, jeweils von 13 bis 15 Uhr\n\nDer zweite Sonntag im Dezember ist wieder Familientag in der Kunsthalle. Von 11 bis 18 Uhr ist der Eintritt in die Ausstellung frei. Von 13 bis 15 Uhr laden wir Kinder ab 5 Jahren ins Offene Atelier ein. Diesmal widmen wir uns dem Thema Blätter und ihre unterschiedlichen Formen. \n\nEintritt und Programm frei.
URL;VALUE=URI:
SUMMARY:Familientag
DTSTART:20191208T110000
END:VEVENT
END:VCALENDAR