BEGIN:VCALENDAR
VERSION:2.0
PRODID:-//hacksw/handcal//NONSGML v1.0//EN
CALSCALE:GREGORIAN
BEGIN:VEVENT
DTEND:20200211T190000
UID:69e5824373812
DTSTAMP:20260420T033251
LOCATION:Helmut-Kohl-Allee 4\, 53113 Bonn
DESCRIPTION:mit Johannes Wohnseifer, Professor an der Kunsthochschule für Medien und ehemaliger Assistent Kippenbergers\n\n3 €/ermäßigt 1,50 €, zzgl. Eintritt in die Ausstellung \nTickets sind im Voraus an der Kasse oder über Bonnticket erhältlich\n
URL;VALUE=URI:
SUMMARY:Führungen mit Zeitzeugen
DTSTART:20200211T180000
END:VEVENT
END:VCALENDAR