BEGIN:VCALENDAR
VERSION:2.0
PRODID:-//hacksw/handcal//NONSGML v1.0//EN
CALSCALE:GREGORIAN
BEGIN:VEVENT
DTEND:20200126T180000
UID:69e66b2c34d41
DTSTAMP:20260420T200636
LOCATION:Mannesmannufer 1b\, 40213 Düsseldorf
DESCRIPTION:Die Ausstellung zeigt das Werk von elf Künstler*innen, die sich für kulturelle und natürliche Ursprünge interessieren, um dadurch die Gegenwart verstehen, imaginieren und gestalten zu können. In ihren Gemälden, Filmen, Zeichnungen und Skulpturen transformieren sie vertraute (innere wie äußere) Landschaften, folgen visuellen Spuren oder befassen sich mit Aspekten ihrer jeweiligen Biographie.\n\nPräsentiert wird eine Vielfalt an Einstellungen, aber allen Künstler*innen ist eine Empfänglichkeit für das Unbeständige gemeinsam. Ihre Werke balancieren zwischen Staunen und Melancholie. Ihr Interesse ist es, sich durch die Suche nach Verankerungspunkten in Tradition und Umwelt in der Gegenwart zu verwurzeln und festzustellen, was für ihre künstlerische Arbeit am Anfang des 21. Jahrhunderts wichtig und unumgänglich ist.\n\nMit Nikos Aslanidis, Maria Capelo, Béatrice Dreux, Eiko Gröschl, Nona Inescu, Ida Lindgren, Catherine Mulligan, Katrina Neiburga, Liesbeth Piena, Natascha Schmitten, Rubica von Streng\n\nKurator: Jurriaan Benschop
URL;VALUE=URI:
SUMMARY:Taking Root
DTSTART:20191102T080000
END:VEVENT
END:VCALENDAR