BEGIN:VCALENDAR
VERSION:2.0
PRODID:-//hacksw/handcal//NONSGML v1.0//EN
CALSCALE:GREGORIAN
BEGIN:VEVENT
DTEND:20190928T160000
UID:69e98cdb5f6bf
DTSTAMP:20260423T050707
LOCATION:Im Mediapark 7\, 50670 Köln
DESCRIPTION:Kosten inkl. Eintritt: 7,50 €, erm. 5 €\n\nTreffpunkt an der Ausstellungskasse
URL;VALUE=URI:
SUMMARY:Führung durch die Ausstellung "Boris Becker – Hochbunker. Photographien von Architekturen und Artefakten"
DTSTART:20190928T150000
END:VEVENT
END:VCALENDAR