BEGIN:VCALENDAR
VERSION:2.0
PRODID:-//hacksw/handcal//NONSGML v1.0//EN
CALSCALE:GREGORIAN
BEGIN:VEVENT
DTEND:20191030T190000
UID:69e559e266b73
DTSTAMP:20260420T004034
LOCATION:Schulstr. 4\, 40213 Düsseldorf
DESCRIPTION:Nicht nur für Düsseldorfer: Kömpkes, Döppe on e lecker Dröppke. Dat Monika Voss deht Üch jet öwer dä Hetjens on sin Raritätches verzälle. Am Äng jöwt et e lecker Jläske on e Bötterke.\n\nVerbindliche Anmeldung an der Kasse unter 0211-8994210 erforderlich.\n\nBegrenzte Teilnehmerzahl, 7,50 € pro Person
URL;VALUE=URI:
SUMMARY:Däm Hetjens sin Pött
DTSTART:20191030T180000
END:VEVENT
END:VCALENDAR