BEGIN:VCALENDAR
VERSION:2.0
PRODID:-//hacksw/handcal//NONSGML v1.0//EN
CALSCALE:GREGORIAN
BEGIN:VEVENT
DTEND:20200601T180000
UID:69e6a5a4c24f1
DTSTAMP:20260421T001604
LOCATION:Friedrich-Wilhelm-Str. 40\, 47051 Duisburg
DESCRIPTION:Wilhelm Lehmbruck gilt als der einzige deutsche Bildhauer, der zu seinen Lebzeiten bedeutende internationale Anerkennung bekommen hat. In einer Studioausstellung im Lehmbruck-Flügel zeigt das Lehmbruck Museum anlässlich des 100. Todestages Lehmbrucks und parallel zur großen Sonderausstellung „Schönheit. Lehmbruck & Rodin. Meister der Moderne“ Einblicke in seine private und künstlerische Biografie. \nLehmbrucks Wohn- und Arbeitsorten folgend zeigt die Ausstellung Frühwerke, historische Fotos und Dokumente. Den Ausgangspunkt bildet sein Geburtsort Meiderich, wo er 1881 als viertes von acht Kindern von Johann Wilhelm und Margareta Lehmbruck geboren wurde. Lehmbrucks künstlerisches Talent wurde von seinem Zeichenlehrer erkannt, gefördert und mit einer Empfehlung für die Düsseldorfer Kunstgewerbeschule honoriert. Es folgte das Studium an der Düsseldorfer Kunstakademie. Nach einer Italienreise zieht er 1906 ganz nach Düsseldorf, löst sich 1907 aber von der Akademie und eröffnet ein eigenes Atelier. Der Umzug nach Paris 1910 öffnete ihm einen ganz neuen Blick auf die aktuelle Kunst und den Kontakt zu wichtigen Kollegen und er bekommt 1914 eine erste Einzelausstellung in der Galerie Levesque. 1914 verlagert Lehmbruck seinen Lebensmittelpunkt nach Berlin und lernt dort u.a. Max Liebermann kennen. Nach den Vorbereitungen für eine Einzelausstellung in der Mannheimer Kunsthalle kehrte Lehmbruck nicht nach Berlin zurück, sondern wählte Zürich als neuen Ort für seine künstlerische Arbeit.\nDiesen Stationen folgt die Ausstellung mit historischen Fotos, selten gezeigten Werken aus der Frühphase des Künstlers, wie auch mit Texten und Zitaten. Einen vertiefenden Zugang wird eine Leseecke mit Publikationen zum Werk und zur Biographie Lehmbrucks ermöglichen. \n
URL;VALUE=URI:
SUMMARY:Wilhelm Lehmbruck: Ein Leben 
DTSTART:20190323T080000
END:VEVENT
END:VCALENDAR