BEGIN:VCALENDAR
VERSION:2.0
PRODID:-//hacksw/handcal//NONSGML v1.0//EN
CALSCALE:GREGORIAN
BEGIN:VEVENT
DTEND:20191130T180000
UID:69ecf08c8bb9b
DTSTAMP:20260425T184916
LOCATION:Gut Leidenhausen\, 51147 Köln
DESCRIPTION:Die Naturbeobachterin und Fotografin Wiebke Dallmeyer-Böhm dokumentiert mit ihren Fotografien Rotwild in der Wahner Heide und im Naturpark Eifel. Sie zeigt, was Rotwild dazu prädestiniert, ein Lebewesen der Offenlandschaften zu sein. 
URL;VALUE=URI:
SUMMARY:Rotwild – Ein Familienportrait unseres größten Säugetieres
DTSTART:20190906T080000
END:VEVENT
END:VCALENDAR