BEGIN:VCALENDAR
VERSION:2.0
PRODID:-//hacksw/handcal//NONSGML v1.0//EN
CALSCALE:GREGORIAN
BEGIN:VEVENT
DTEND:20191101T180000
UID:69eb121072381
DTSTAMP:20260424T084744
LOCATION:Berger Allee 2\, 40213 Düsseldorf
DESCRIPTION:Im Projektraum 119 zeigen vier Düsseldorfer Fotografen Positionen zur "Ausgehkultur" in Düsseldorf von den 1970er-Jahren bis heute. \n\nRichard Gleim, Sven Kierst, Markus Luigs und Foto Schiko sind Fotografen, die sich in verschiedenen Jahrzehnten mit musikalischen Strömungen in Düsseldorf beschäftigen. Das Publikum, der Ort und die Musikrichtung spielen dabei wichtige Rollen. Sehr individuell stellt jeder Fotograf aus seiner Perspektive Strömungen dar. Politische, soziale und kulturelle Entwicklungen zeigen sich in Momentaufnahmen. \n\nDer Düsseldorfer Szenefotograf ar/gee gleim zeigt Publikum, das die Punkszene reflektiert. In kleinen Räumen entlädt sich die Energie der Musik und explodiert in den Fotos. Seit den 1950er-Jahren bewegt er sich erst als Musiker durch die Jazzszene, dann als Fotograf und Musikproduzent durch die deutschsprachige Musik. \nSven Kierst interessiert der Augenblick, in dem sich eine Situation darstellt oder sich ihm ein besonderes Bild zeigt. Es ergeben sich Motive, die zwischen figurativer und abstrakter Bildkomposition wechseln. Sie entfernen sich dadurch von dem ursprünglichen Zustand und sind davon befreit. \nMarkus Luigs‘ Fotos sind Artefakte von Veränderungsprozessen in Düsseldorf. Er zeigt Orte, die Vergangenes verbildlichen. Er ist in der aktuellen Düsseldorfer Musikszene unterwegs und fängt Momente ein, die komplexe Zusammenhänge visualisieren. \nFoto Schiko gilt als Chronist der Düsseldorfer Subkultur. Seine meist schwarz-weiß-analogen, und mit kleinsten Kompaktkameras gemachten Bilder sprechen von Musik, Freundschaft, Kunst, Katastrophen, Menschen, Heimat, Überleben und Highspeedvolumen.\n\nDie hier gezeigten großformatigen Arbeiten über den Düsseldorfer Unique Club (1995–2006) verweisen nicht nur auf einen legendären Düsseldorfer Musikclub, sondern auch auf die Menschen, die diesen Ort um die Jahrtausendwende mit Leben füllten.
URL;VALUE=URI:
SUMMARY:Resonanz & Reflexion – Fotografische und audiovisuelle Positionen zur Musikkultur in Düsseldorf
DTSTART:20190920T080000
END:VEVENT
END:VCALENDAR