BEGIN:VCALENDAR
VERSION:2.0
PRODID:-//hacksw/handcal//NONSGML v1.0//EN
CALSCALE:GREGORIAN
BEGIN:VEVENT
DTEND:20200105T180000
UID:69e9e6cc34dfc
DTSTAMP:20260423T113052
LOCATION:Berger Allee 2\, 40213 Düsseldorf
DESCRIPTION:Die Ausstellung "175 Jahre Verein der Düsseldorfer Künstler *1844" gibt einen Überblick über die lange Geschichte des Vereins und dessen Mitglieder. Noch nie ist dieser Verein, einer der ältesten Künstlervereine Deutschlands, so prominent in Erscheinung getreten. \n\nMit zahlreichen Kunstwerken und Dokumenten wird die Geschichte lebendig nachvollziehbar erzählt. Seine Bedeutung für die Kunststadt Düsseldorf wird an zahlreichen Spuren, die der Verein und seine Mitglieder in der Landeshauptstadt hinterlassen haben, sichtbar gemacht. Seien es Gemälde, Skulpturen oder Gebäude, sie alle sind der Stadtgesellschaft vertraut. Wir zeigen deren Ursprünge auf und verweisen mit Werken der heutigen Generation sowie mit in der Ausstellung stattfindenden Workshops und Diskussionen in die Zukunft.
URL;VALUE=URI:
SUMMARY:175 Jahre Verein der Düsseldorfer Künstler *1844 - zwischen Hungertuch und Kunstpalast
DTSTART:20190908T080000
END:VEVENT
END:VCALENDAR