BEGIN:VCALENDAR
VERSION:2.0
PRODID:-//hacksw/handcal//NONSGML v1.0//EN
CALSCALE:GREGORIAN
BEGIN:VEVENT
DTEND:20200112T180000
UID:69ed365e84165
DTSTAMP:20260425T234710
LOCATION:Museumsplatz 1\, 45128 Essen
DESCRIPTION:Der dritte Teil der Reihe "Bauhaus am Folkwang" widmet sich dem Künstler László Moholy-Nagy. Die Kabinettausstellung ermöglicht einen Einblick in das multimediale Schaffen des Bauhausmeisters: Gezeigt werden rund 50 Arbeiten aus der museumseigenen Sammlung. Der Schwerpunkt der Präsentation liegt auf Fotografien und Fotogrammen, es werden aber auch Filme, Collagen und Gemälde zu sehen sein.\n\nAnlässlich von "100 Jahre Bauhaus" gibt das Museum Folkwang Einblick in seine eigenen Bestände: Im wechselnden Zusammenspiel von Malerei, Grafik, Plakat, Fotografie und Bewegtbild folgen drei Kabinettausstellungen den vielfältigen Verbindungslinien zwischen dem Museum Folkwang und dem Bauhaus. Im Verlauf des Bauhaus-Jahres widmet sich das Museum Folkwang mit Lyonel Feininger (18.1.–14.4.2019) den expressionistischen Anfängen der Schule, stellt die Bühnenwelten (28.4.–8.9.2019) am Bauhaus vor und zeichnet am Beispiel von László Moholy-Nagy (20.9.–Dez. 2019) die Hinwendung zu Fotografie und Film nach. 
URL;VALUE=URI:
SUMMARY:Bauhaus am Folkwang. László Moholy-Nagy
DTSTART:20190920T080000
END:VEVENT
END:VCALENDAR