BEGIN:VCALENDAR
VERSION:2.0
PRODID:-//hacksw/handcal//NONSGML v1.0//EN
CALSCALE:GREGORIAN
BEGIN:VEVENT
DTEND:20191006T180000
UID:69ec15190b429
DTSTAMP:20260425T031257
LOCATION:Hoeschplatz 1\, 52349 Düren
DESCRIPTION:Im Sommer präsentiert das Leopold-Hoesch-Museum eine Einzelausstellung des deutschen Malers, Bildhauers und Objektkünstlers Peter Zimmermann (*1956 in Freiburg im Breisgau). Der durch zahlreiche internationale Ausstellungen bekannte Kölner Künstler ist ein bedeutender Vertreter der konzeptuellen Malerei. \n\nSeine farbenprächtigen Bilder aus Epoxidharz und Ölfarbe lassen die Betrachter*innen in ein immersives Meer aus verführerischen Oberflächen eintauchen. Bei genauem Hinsehen verhandeln die vielschichtigen Gemälde, die auch als Vorhänge oder begehbare Bodenarbeiten auftreten können, das Verhältnis von Original und Abbild und ermöglichen durch Überführung vom digitalen Bild in das traditionelle Medium der Malerei eine distanzierte Betrachtung der neuen Technologien. 
URL;VALUE=URI:
SUMMARY:Peter Zimmermann
DTSTART:20190718T080000
END:VEVENT
END:VCALENDAR