BEGIN:VCALENDAR
VERSION:2.0
PRODID:-//hacksw/handcal//NONSGML v1.0//EN
CALSCALE:GREGORIAN
BEGIN:VEVENT
DTEND:20200816T180000
UID:69e68939ad501
DTSTAMP:20260420T221449
LOCATION:Gelsenkirchener Straße 181 / Zollverein A 14 (Schacht XII\, Kohlenwäsche)\, 45309 Essen
DESCRIPTION:Galerieausstellung im Ruhr Museum \n\nDas Verhältnis von Mensch und Tier ist eine Jahrtausende lange Machtgeschichte. Tiere spielen in diesem Verhältnis eine untergeordnete, passive Rolle. Tiere töten, Tiere nutzen, Tiere lieben, Tiere ordnen und Tiere deuten – in fünf Abteilungen thematisiert die Sonderausstellung die vielfältigen Beziehungen zwischen Mensch und Tier im Ruhrgebiet. Über 100 Objekte – von der Pfeilspitze aus der Steinzeit bis zum „Ehrenpreis für das beste Euter“ für Ziegenzüchter aus der Gegenwart – machen dabei das sich stetig wandelnde Verhältnis deutlich. Angesichts der massenhaften Fleischproduktion und der Zerstörung natürlicher Lebensräume fordert die aktuelle ethische Debatte ein Umdenken. \n\nIn diesem „Animal turn“ soll – auch zum Wohle des Menschen – den Tieren eine aufgewertete, aktivere Stellung zukommen. Denn nie zuvor wurden Tiere so maßlos ausgenutzt und dennoch so hoch geschätzt.\n
URL;VALUE=URI:
SUMMARY:Mensch und Tier im Revier
DTSTART:20190708T080000
END:VEVENT
END:VCALENDAR