BEGIN:VCALENDAR
VERSION:2.0
PRODID:-//hacksw/handcal//NONSGML v1.0//EN
CALSCALE:GREGORIAN
BEGIN:VEVENT
DTEND:20190714T180000
UID:69eb596003bdb
DTSTAMP:20260424T135200
LOCATION:Am Museum\, 47623 Kevelaer
DESCRIPTION:Im Gedenken an seinen 100. Todestag widmet sich das Niederrheinische Museum dem Schaffen des Historienmalers Friedrich Stummels in einer Sonderausstellung. Insbesondere seine Tätigkeit als Meister in seiner Kevelaerer „Stummelschule“ soll hier durchleuchtet werden, indem seine ehemaligen Schüler in den Fokus rücken, die aus seiner vielbeschäftigten Werkstatt hervorgingen.\n\nNamen wie Brey, Derix, Holtmann, Pauels, Renard, Sensen und Wenzel sind in der Region durchaus bekannt und werden in der Ausstellung nicht nur namentlich auftauchen. Vor allem ihr Kunst-schaffen wird genauer betrachtet, um herauszufinden: Was ist aus Stummels Erbe geworden? Aus dieser Frage heraus werden, soweit nachvollziehbar und überliefert, Einblicke in die Lebenswege der Stummelschüler von Mai bis Juli ermöglicht.
URL;VALUE=URI:
SUMMARY:Stummels Erbe
DTSTART:20190519T080000
END:VEVENT
END:VCALENDAR