BEGIN:VCALENDAR
VERSION:2.0
PRODID:-//hacksw/handcal//NONSGML v1.0//EN
CALSCALE:GREGORIAN
BEGIN:VEVENT
DTEND:20191027T180000
UID:69e893a645505
DTSTAMP:20260422T112350
LOCATION:Im Krausfeld 10\, 53111 Bonn
DESCRIPTION:100 Jahre Bauhaus - aus diesem Anlass findet eine große Anzahl von Ausstellungen statt. Sie alle würdigen den Beitrag, den das Bauhaus zur Moderne geleistet hat. Wir zeigen in unserer Ausstellung, welchen Beitrag Frauen bei der Ausformulierung dieser Moderne geleistet haben. Umgekehrt gilt es aber auch aufzuzeigen, was Frauen dieser "Moderne" zu verdanken haben. "Bauhaus 1919-2019" ist daher nicht nur Anlass zu einem Rückblick auf etwas, was vor 100 Jahren gewesen ist, sondern ein Zeitraum bis heute. In diesem Zeitraum haben Frauen, das was damals begonnen wurde aufgenommen, weiterentwickelt und verändert. Frauen gestalten Lebensräume entscheidend mit, in Design und sozialräumlich. Das revolutionäre am Bauhaus (und dem Neuen Bauen) war, dass Frauen diese an sich Selbstverständlichkeit erstmal umsetzen konnten. Architekt*Innen konnten Frauen am Bauhaus nicht werden, Frauen wurden Innenarchitektinnen. 2019 sind viele der aufregendsten Architekturen der Welt von Frauen. Und das heißt Räume und Stadt-Räume von Frauen.\n\n*Innen Räume 1919-2019 erzählt so von dem Bauhaus Design der frühen Jahre bis zu den Architektinnen von heute.
URL;VALUE=URI:
SUMMARY:„bauhaus*innen räume 1919–2019“
DTSTART:20190519T080000
END:VEVENT
END:VCALENDAR